BEGIN:VCALENDAR
VERSION:2.0
PRODID:-//Pearland Police Department Training - ECPv6.15.18//NONSGML v1.0//EN
CALSCALE:GREGORIAN
METHOD:PUBLISH
X-WR-CALNAME:Pearland Police Department Training
X-ORIGINAL-URL:https://ppdtraining.elementlms.com
X-WR-CALDESC:Events for Pearland Police Department Training
REFRESH-INTERVAL;VALUE=DURATION:PT1H
X-Robots-Tag:noindex
X-PUBLISHED-TTL:PT1H
BEGIN:VTIMEZONE
TZID:America/Chicago
BEGIN:DAYLIGHT
TZOFFSETFROM:-0600
TZOFFSETTO:-0500
TZNAME:CDT
DTSTART:20240310T080000
END:DAYLIGHT
BEGIN:STANDARD
TZOFFSETFROM:-0500
TZOFFSETTO:-0600
TZNAME:CST
DTSTART:20241103T070000
END:STANDARD
BEGIN:DAYLIGHT
TZOFFSETFROM:-0600
TZOFFSETTO:-0500
TZNAME:CDT
DTSTART:20250309T080000
END:DAYLIGHT
BEGIN:STANDARD
TZOFFSETFROM:-0500
TZOFFSETTO:-0600
TZNAME:CST
DTSTART:20251102T070000
END:STANDARD
BEGIN:DAYLIGHT
TZOFFSETFROM:-0600
TZOFFSETTO:-0500
TZNAME:CDT
DTSTART:20260308T080000
END:DAYLIGHT
BEGIN:STANDARD
TZOFFSETFROM:-0500
TZOFFSETTO:-0600
TZNAME:CST
DTSTART:20261101T070000
END:STANDARD
END:VTIMEZONE
BEGIN:VEVENT
DTSTART;TZID=America/Chicago:20250708T080000
DTEND;TZID=America/Chicago:20250708T170000
DTSTAMP:20260424T084414
CREATED:20250415T160159Z
LAST-MODIFIED:20250415T160159Z
UID:10004563-1751961600-1751994000@ppdtraining.elementlms.com
SUMMARY:SAFLEO (Line Officer Training) Free 8 Hour Block
DESCRIPTION:The National Suicide Awareness for Law Enforcement Officers (SAFLEO) Program is coming to your area with law enforcement suicide prevention training that will help you better understand suicide\, reduce stress\, and save lives. No matter where you are in your law enforcement career\, SAFLEO has a no-cost training specifically designed for you\, all with the goal of preventing law enforcement suicide. All in-person SAFLEO trainings are certified by the International Association of Directors of Law Enforcement Standards and Training (IADLEST) National Certification Program™. \nThis training\, open to all sworn law enforcement professionals\, provides you with a deeper understanding of factors that contribute to suicide. You will learn how to recognize warning signs in yourself and others\,\ndiscover ways to build resilience\, and explore options for treating any unresolved stress. \nSAFLEO Training Suite - Pearland TX\nFor More information click here
URL:https://ppdtraining.elementlms.com/event/safleo-line-officer-training-free-8-hour-block/
END:VEVENT
BEGIN:VEVENT
DTSTART;TZID=America/Chicago:20250709T080000
DTEND;TZID=America/Chicago:20250709T120000
DTSTAMP:20260424T084414
CREATED:20241107T203507Z
LAST-MODIFIED:20241107T203507Z
UID:10004388-1752048000-1752062400@ppdtraining.elementlms.com
SUMMARY:Domestic Violence Investigations
DESCRIPTION:*** TO REGISTER FOR THIS COURSE\, PLEASE LOGIN AND REGISTER ***\n\nThe Pearland Police Department is proud to partner with the Harris County Domestic Violence Coordinating Council\, to bring awareness to survivors of domestic violence. Law enforcement investigations into domestic violence\, require understanding victims\, empathy and a willingness to help with these events. Domestic violence is one of the leading causes of death for women on an international level. It is also one of the most dangerous crimes that law enforcement will respond to; and it also is a frustrating crime to address for most law enforcement. We look forward to having you attend this free training. \nTopics included in this course will include: \n\nDomestic Violence 101\nAssessing Danger\nDomestic Violence High Risk Team\nTrauma Informed Response\n \nFor More information click here
URL:https://ppdtraining.elementlms.com/event/domestic-violence-investigations-2/
END:VEVENT
BEGIN:VEVENT
DTSTART;TZID=America/Chicago:20250709T080000
DTEND;TZID=America/Chicago:20250710T170000
DTSTAMP:20260424T084414
CREATED:20250415T160609Z
LAST-MODIFIED:20250415T160609Z
UID:10004564-1752048000-1752166800@ppdtraining.elementlms.com
SUMMARY:SAFLEO (Train-the-Trainer Workshop) Free 16 Hour Block
DESCRIPTION:The National Suicide Awareness for Law Enforcement Officers (SAFLEO) Program is coming to your area with law enforcement suicide prevention training that will help you better understand suicide\, reduce stress\, and save lives. No matter where you are in your law enforcement career\, SAFLEO has a no-cost training specifically designed for you\, all with the goal of preventing law enforcement suicide. All in-person SAFLEO trainings are certified by the International Association of Directors of Law Enforcement Standards and Training (IADLEST) National Certification Program™. \nCertificate of completion for 16 hours available This workshop enables established trainers and instructors to support their agencies’ officer wellness and suicide prevention programs and encourage and effect behavioral and organizational culture change. In order to attend\, you must have successfully completed either the SAFLEO Line Officer Training or the SAFLEO Leadership and Supervision Training. \nSAFLEO Training Suite - Pearland TX\nFor More information click here
URL:https://ppdtraining.elementlms.com/event/safleo-train-the-trainer-workshop-free-16-hour-block/
END:VEVENT
BEGIN:VEVENT
DTSTART;TZID=America/Chicago:20250722T080000
DTEND;TZID=America/Chicago:20250723T170000
DTSTAMP:20260424T084414
CREATED:20250501T122116Z
LAST-MODIFIED:20250501T122116Z
UID:10004569-1753171200-1753290000@ppdtraining.elementlms.com
SUMMARY:ICC Arrest\, Search and Seizure
DESCRIPTION:The Fourth Amendment to the United States Constitution guarantees protection from unreasonable searches and seizures. It is the duty of law enforcement officers to conduct legal searches and seizures. An illegal search or seizure violates a persons rights and may lead to adverse consequences for the officer who engaged in the illegality. Such consequences may include a criminal or civil case brought against the officer\, suppression of evidence recovered from the suspect\, and department discipline. This course meets Texas Commission on Law Enforcement (TCOLE) requirements   #2108 \nFor More information click here
URL:https://ppdtraining.elementlms.com/event/icc-arrest-search-and-seizure/
END:VEVENT
END:VCALENDAR