BEGIN:VCALENDAR
VERSION:2.0
PRODID:-//Pearland Police Department Training - ECPv6.15.18//NONSGML v1.0//EN
CALSCALE:GREGORIAN
METHOD:PUBLISH
X-WR-CALNAME:Pearland Police Department Training
X-ORIGINAL-URL:https://ppdtraining.elementlms.com
X-WR-CALDESC:Events for Pearland Police Department Training
REFRESH-INTERVAL;VALUE=DURATION:PT1H
X-Robots-Tag:noindex
X-PUBLISHED-TTL:PT1H
BEGIN:VTIMEZONE
TZID:America/Chicago
BEGIN:DAYLIGHT
TZOFFSETFROM:-0600
TZOFFSETTO:-0500
TZNAME:CDT
DTSTART:20240310T080000
END:DAYLIGHT
BEGIN:STANDARD
TZOFFSETFROM:-0500
TZOFFSETTO:-0600
TZNAME:CST
DTSTART:20241103T070000
END:STANDARD
BEGIN:DAYLIGHT
TZOFFSETFROM:-0600
TZOFFSETTO:-0500
TZNAME:CDT
DTSTART:20250309T080000
END:DAYLIGHT
BEGIN:STANDARD
TZOFFSETFROM:-0500
TZOFFSETTO:-0600
TZNAME:CST
DTSTART:20251102T070000
END:STANDARD
BEGIN:DAYLIGHT
TZOFFSETFROM:-0600
TZOFFSETTO:-0500
TZNAME:CDT
DTSTART:20260308T080000
END:DAYLIGHT
BEGIN:STANDARD
TZOFFSETFROM:-0500
TZOFFSETTO:-0600
TZNAME:CST
DTSTART:20261101T070000
END:STANDARD
END:VTIMEZONE
BEGIN:VEVENT
DTSTART;TZID=America/Chicago:20250303T080000
DTEND;TZID=America/Chicago:20250307T170000
DTSTAMP:20260422T084426
CREATED:20241030T235608Z
LAST-MODIFIED:20241030T235608Z
UID:10004261-1740988800-1741366800@ppdtraining.elementlms.com
SUMMARY:ICC Crime Scene Investigations - (March 3-7 2025 8:00 am - 5:00 pm)
DESCRIPTION:The Intermediate Crime Scene Search Course is designed to provide additional information on this subject area. This course is one of the seven courses required for Intermediate certification. It is not meant to override department policy and current laws. This is a hands on working course. This course meets Texas Commission on Law Enforcement (TCOLE) requirements #2106 \nFor More information click here
URL:https://ppdtraining.elementlms.com/event/icc-crime-scene-investigations-march-3-7-2025-800-am-500-pm/
END:VEVENT
BEGIN:VEVENT
DTSTART;TZID=America/Chicago:20250325T080000
DTEND;TZID=America/Chicago:20250325T170000
DTSTAMP:20260422T084426
CREATED:20241211T212821Z
LAST-MODIFIED:20241211T212821Z
UID:10004414-1742889600-1742922000@ppdtraining.elementlms.com
SUMMARY:SFST Update/Refresher Course
DESCRIPTION:Description\nThe Standardized Field Sobriety Test (SFST) is a battery of three tests administered and evaluated in a standardized manner to obtain validated indicators of impairment and establish probable cause for arrest. These tests were developed as a result of research sponsored by the National Highway Traffic Safety Administration (NHTSA) and conducted by the Southern California Research Institute. This course provides refresher training for licensed practitioners to keep skills fresh and update students on the latest information in the field. \nPlease bring a laptop or USB Flash Drive for material transfer.   \nThis course meets Texas Commission on Law Enforcement (TCOLE) requirements #2178 \nPrerequisite\nAny Commissioned / Licensed Peace Officer \nTopics\n• Report writing procedures in DWI arrests.\n• Sequence of DWI subject processing procedures.\n• Elements of the DWI arrest report. \nAudience\n• Currently commissioned Texas peace officers \nRequirements\n• Currently commissioned Texas peace officers\n \nEducation Credits\n8 Hrs Texas Commission on Law Enforcement (TCOLE) \nFor More information click here
URL:https://ppdtraining.elementlms.com/event/sfst-update-refresher-course/
END:VEVENT
END:VCALENDAR