BEGIN:VCALENDAR
VERSION:2.0
PRODID:-//Pearland Police Department Training - ECPv6.15.18//NONSGML v1.0//EN
CALSCALE:GREGORIAN
METHOD:PUBLISH
X-WR-CALNAME:Pearland Police Department Training
X-ORIGINAL-URL:https://ppdtraining.elementlms.com
X-WR-CALDESC:Events for Pearland Police Department Training
REFRESH-INTERVAL;VALUE=DURATION:PT1H
X-Robots-Tag:noindex
X-PUBLISHED-TTL:PT1H
BEGIN:VTIMEZONE
TZID:America/Chicago
BEGIN:DAYLIGHT
TZOFFSETFROM:-0600
TZOFFSETTO:-0500
TZNAME:CDT
DTSTART:20250309T080000
END:DAYLIGHT
BEGIN:STANDARD
TZOFFSETFROM:-0500
TZOFFSETTO:-0600
TZNAME:CST
DTSTART:20251102T070000
END:STANDARD
BEGIN:DAYLIGHT
TZOFFSETFROM:-0600
TZOFFSETTO:-0500
TZNAME:CDT
DTSTART:20260308T080000
END:DAYLIGHT
BEGIN:STANDARD
TZOFFSETFROM:-0500
TZOFFSETTO:-0600
TZNAME:CST
DTSTART:20261101T070000
END:STANDARD
BEGIN:DAYLIGHT
TZOFFSETFROM:-0600
TZOFFSETTO:-0500
TZNAME:CDT
DTSTART:20270314T080000
END:DAYLIGHT
BEGIN:STANDARD
TZOFFSETFROM:-0500
TZOFFSETTO:-0600
TZNAME:CST
DTSTART:20271107T070000
END:STANDARD
END:VTIMEZONE
BEGIN:VEVENT
DTSTART;TZID=America/Chicago:20260420T080000
DTEND;TZID=America/Chicago:20260424T170000
DTSTAMP:20260422T060910
CREATED:20251212T163748Z
LAST-MODIFIED:20260310T145051Z
UID:10004933-1776672000-1777050000@ppdtraining.elementlms.com
SUMMARY:ICC Crime Scene Investigations TCOLE 2106 - (April 20-24\, 2026 8:00 am - 5:00 pm)
DESCRIPTION:The Intermediate Crime Scene Search Course is designed to provide additional information on this subject area. This course is one of the seven courses required for Intermediate certification. It is not meant to override department policy and current laws. This is a hands on working course. This course meets Texas Commission on Law Enforcement (TCOLE) requirements #2106 \nREQUIRED EVIDENCE KIT \n\n\nPaper evidence bags\, small\, medium and large- 10 each\n\n\nGloves- box of your size\n\n\nCrime Scene Tape- one roll\n\n\nFingerprint kit (powder\, brush\, tape\, index cards)\n\n\nDNA kit (swabs\, distilled water\, swab boxes)\n\n\nPlaster of Paris- one carton\n\n\nZiploc bag- one each\n\n\nEvidence placards\n\n\nTape measures- one each\n\n\nFaraday bag- one each\n\n\nFor More information click here
URL:https://ppdtraining.elementlms.com/event/icc-crime-scene-investigations-tcole-2106-2/
END:VEVENT
BEGIN:VEVENT
DTSTART;TZID=America/Chicago:20260421T080000
DTEND;TZID=America/Chicago:20260423T170000
DTSTAMP:20260422T060910
CREATED:20250716T172626Z
LAST-MODIFIED:20250716T172626Z
UID:10004670-1776758400-1776963600@ppdtraining.elementlms.com
SUMMARY:Basic Patrol Rifle Course 3322
DESCRIPTION:*** TO REGISTER FOR THIS COURSE\, PLEASE LOGIN AND REGISTER *** \nDescription \nThe Patrol Rifle course is designed for officers who have taken interest in the safe and proper procedures for deploying patrol rifles. Course design and safety issues are taught as well as principles of marksmanship\, rifle nomenclature and operation. The course emphasizes teaching weapons manipulation and training personnel to fight with a rifle at what are traditionally considered handgun ranges and stand-off distances up to 150 yards. The course is based on the AR-15/M-4/M-16 weapons platform. However\, other systems will be discussed. \nThis course meets Texas Commission on Law Enforcement (TCOLE) requirements #3322 \nSchedule\n\nDay 1 – 8am to 5pm \nDay 2 – 1pm to 9pm  (Depending on Daylight Saving Time) \nDay 3 – 8am to 5pm \nTopics \n\nPatrol Rifle Fundamentals\nMedical Emergencies\nShooting on the move\n\nAudience \n\nCurrently commissioned Texas peace officers\n\nRequirements \nHearing protection\, wrap around eye protection that are safety glasses\, billed cap\, (knee and elbow pads in you need them)\, \nMagazine fed semi-automatic rifle that uses and was manufactured for the use of detachable magazines with sling\, 3 magazines\, magazine pouches and a weapon mounted light. No Folding Stocks. No Select Fire Control systems to allow full auto or Burst capability. No Binary Trigger systems allowed. Trigger pull weight must be no less than 3.5 lbs.  Short Barrel Rifles (SBR’s) are allowed but must have a barrel length of no less than 10″ and accompanied by your NFA Short Barrel Rifle Tax Stamp. No AR style pistols allowed.   \nAppropriate cleaning gear and 1000 rounds of ammunition. No M855 green tip or armor piercing ammo will be allowed. \nDetachable optics are acceptable but rifle must have iron sights that co-witness through the optic or are hard mounted 45 degree angled flip-up sights. \nDuty handgun with 3 magazines and 200 rounds of ammunition\, duty belt with non-collapsible belt holster for handgun\, magazine pouch and cleaning gear. \nFor More information click here
URL:https://ppdtraining.elementlms.com/event/basic-patrol-rifle-course-3322-2/
END:VEVENT
BEGIN:VEVENT
DTSTART;TZID=America/Chicago:20260422T080000
DTEND;TZID=America/Chicago:20260422T170000
DTSTAMP:20260422T060910
CREATED:20260219T195752Z
LAST-MODIFIED:20260326T150858Z
UID:10005018-1776844800-1776877200@ppdtraining.elementlms.com
SUMMARY:SAFLEO Workshop: Creating Resilient Law Enforcement Teams (April 22\, 2026\, 8am-5pm) - (April 22\, 2026 8:00 am - 5:00 pm)
DESCRIPTION:Passionate and engaged teams are the key to successful law enforcement operations. This interactive workshop focuses on team-building strategies useful at all levels of the organization\, with important concepts like intervention and influence explored in depth. Attendees will leave this event with an understanding of team dynamics\, how to build healthy relationships within the organization\, and the importance of leading by example. This workshop is designed for supervisors\, team leaders\, and others who are tasked with helping people succeed. \nThis training event will provide: \n\nAn exploration of strong leadership traits and common pitfalls to avoid that can lead to compromised leadership\nA discussion of healthy team dynamics and what role leadership plays in achieving outstanding results\nThe creation of a plan designed to assist the leader in achieving progress in intentional ways\n\n\nThis training is open to sworn law enforcement professionals and civilian support staff. \nFor More information click here
URL:https://ppdtraining.elementlms.com/event/safleo-workshop-creating-resilient-law-enforcement-teams-april-22-2026-8am-5pm/
END:VEVENT
BEGIN:VEVENT
DTSTART;TZID=America/Chicago:20260422T080000
DTEND;TZID=America/Chicago:20260422T170000
DTSTAMP:20260422T060910
CREATED:20260421T123319Z
LAST-MODIFIED:20260421T123319Z
UID:10005082-1776844800-1776877200@ppdtraining.elementlms.com
SUMMARY:SAFLEO Workshop: Creating Resilient Law Enforcement Teams (April 22\, 2026\, 8am-5pm) - (April 22\, 2026 8:00 am - 5:00 pm)
DESCRIPTION:Passionate and engaged teams are the key to successful law enforcement operations. This interactive workshop focuses on team-building strategies useful at all levels of the organization\, with important concepts like intervention and influence explored in depth. Attendees will leave this event with an understanding of team dynamics\, how to build healthy relationships within the organization\, and the importance of leading by example. This workshop is designed for supervisors\, team leaders\, and others who are tasked with helping people succeed. \nThis training event will provide: \n\nAn exploration of strong leadership traits and common pitfalls to avoid that can lead to compromised leadership\nA discussion of healthy team dynamics and what role leadership plays in achieving outstanding results\nThe creation of a plan designed to assist the leader in achieving progress in intentional ways\n\n\nThis training is open to sworn law enforcement professionals and civilian support staff. \nFor More information click here
URL:https://ppdtraining.elementlms.com/event/safleo-workshop-creating-resilient-law-enforcement-teams-april-22-2026-8am-5pm-april-22-2026-800-am-500-pm/
END:VEVENT
END:VCALENDAR