BEGIN:VCALENDAR
VERSION:2.0
PRODID:-//Pearland Police Department Training - ECPv6.15.18//NONSGML v1.0//EN
CALSCALE:GREGORIAN
METHOD:PUBLISH
X-ORIGINAL-URL:https://ppdtraining.elementlms.com
X-WR-CALDESC:Events for Pearland Police Department Training
REFRESH-INTERVAL;VALUE=DURATION:PT1H
X-Robots-Tag:noindex
X-PUBLISHED-TTL:PT1H
BEGIN:VTIMEZONE
TZID:America/Chicago
BEGIN:DAYLIGHT
TZOFFSETFROM:-0600
TZOFFSETTO:-0500
TZNAME:CDT
DTSTART:20240310T080000
END:DAYLIGHT
BEGIN:STANDARD
TZOFFSETFROM:-0500
TZOFFSETTO:-0600
TZNAME:CST
DTSTART:20241103T070000
END:STANDARD
BEGIN:DAYLIGHT
TZOFFSETFROM:-0600
TZOFFSETTO:-0500
TZNAME:CDT
DTSTART:20250309T080000
END:DAYLIGHT
BEGIN:STANDARD
TZOFFSETFROM:-0500
TZOFFSETTO:-0600
TZNAME:CST
DTSTART:20251102T070000
END:STANDARD
BEGIN:DAYLIGHT
TZOFFSETFROM:-0600
TZOFFSETTO:-0500
TZNAME:CDT
DTSTART:20260308T080000
END:DAYLIGHT
BEGIN:STANDARD
TZOFFSETFROM:-0500
TZOFFSETTO:-0600
TZNAME:CST
DTSTART:20261101T070000
END:STANDARD
END:VTIMEZONE
BEGIN:VEVENT
DTSTART;TZID=America/Chicago:20250812T130000
DTEND;TZID=America/Chicago:20250812T170000
DTSTAMP:20260424T211648
CREATED:20250922T125602Z
LAST-MODIFIED:20250922T125602Z
UID:10004788-1755003600-1755018000@ppdtraining.elementlms.com
SUMMARY:Legislative Update #3189
DESCRIPTION:This course covers the bills passed in the 89th legislative session\, which affect most peace officers\, judges\, and prosecutors of the State of Texas. This material is a general summary of selected court cases and changes to Texas’ statutes that govern the laws enforced along with the administration of law enforcement officers and agencies as determined by the 89th legislative session. \nThis is not all-inclusive for every change. You must verify all legislative changes and case-law holdings discussed and are responsible for appropriately implementing these changes. Your agency should be working to make the changes and additions to your policy and procedures. \nFor More information click here
URL:https://ppdtraining.elementlms.com/event/legislative-update-3189-6/
END:VEVENT
END:VCALENDAR