BEGIN:VCALENDAR
VERSION:2.0
PRODID:-//Pearland Police Department Training - ECPv6.15.18//NONSGML v1.0//EN
CALSCALE:GREGORIAN
METHOD:PUBLISH
X-WR-CALNAME:Pearland Police Department Training
X-ORIGINAL-URL:https://ppdtraining.elementlms.com
X-WR-CALDESC:Events for Pearland Police Department Training
REFRESH-INTERVAL;VALUE=DURATION:PT1H
X-Robots-Tag:noindex
X-PUBLISHED-TTL:PT1H
BEGIN:VTIMEZONE
TZID:America/Chicago
BEGIN:DAYLIGHT
TZOFFSETFROM:-0600
TZOFFSETTO:-0500
TZNAME:CDT
DTSTART:20240310T080000
END:DAYLIGHT
BEGIN:STANDARD
TZOFFSETFROM:-0500
TZOFFSETTO:-0600
TZNAME:CST
DTSTART:20241103T070000
END:STANDARD
BEGIN:DAYLIGHT
TZOFFSETFROM:-0600
TZOFFSETTO:-0500
TZNAME:CDT
DTSTART:20250309T080000
END:DAYLIGHT
BEGIN:STANDARD
TZOFFSETFROM:-0500
TZOFFSETTO:-0600
TZNAME:CST
DTSTART:20251102T070000
END:STANDARD
BEGIN:DAYLIGHT
TZOFFSETFROM:-0600
TZOFFSETTO:-0500
TZNAME:CDT
DTSTART:20260308T080000
END:DAYLIGHT
BEGIN:STANDARD
TZOFFSETFROM:-0500
TZOFFSETTO:-0600
TZNAME:CST
DTSTART:20261101T070000
END:STANDARD
END:VTIMEZONE
BEGIN:VEVENT
DTSTART;TZID=America/Chicago:20250618T080000
DTEND;TZID=America/Chicago:20250618T170000
DTSTAMP:20260424T084415
CREATED:20241030T235616Z
LAST-MODIFIED:20241030T235616Z
UID:10004317-1750233600-1750266000@ppdtraining.elementlms.com
SUMMARY:De-Escalation - (June 18\, 2025 8:00 am - 5:00 pm)
DESCRIPTION:*** TO REGISTER FOR THIS COURSE\, PLEASE LOGIN AND REGISTER *** \nDescription \nThis course is designed to improve the response of officers to incidents that involve persons in crisis\, who are behaving erratically\, emphasizing that public and officer safety are at the heart of this training process. As of April 1\, 2018\, this course is required to be completed every 48 months for those with a basic or no proficiency certificate\, or to obtain an intermediate or advanced proficiency certificate. \nThis course meets Texas Commission on Law Enforcement (TCOLE) requirements #1849 \nPrerequisite  \nAny Commissioned / Licensed Peace Officer \nTopics \nLimiting the Use of Force in Public Interaction is now a required 8-hour class mandated by the passage of the Sandra Bland Act in 2017. \nFor More information click here
URL:https://ppdtraining.elementlms.com/event/de-escalation-june-18-2025-800-am-500-pm/
END:VEVENT
BEGIN:VEVENT
DTSTART;TZID=America/Chicago:20250618T080000
DTEND;TZID=America/Chicago:20250618T170000
DTSTAMP:20260424T084415
CREATED:20250624T113225Z
LAST-MODIFIED:20250624T113225Z
UID:10004602-1750233600-1750266000@ppdtraining.elementlms.com
SUMMARY:De-Escalation - (June 18\, 2025 8:00 am - 5:00 pm)
DESCRIPTION:*** TO REGISTER FOR THIS COURSE\, PLEASE LOGIN AND REGISTER *** \nDescription \nThis course is designed to improve the response of officers to incidents that involve persons in crisis\, who are behaving erratically\, emphasizing that public and officer safety are at the heart of this training process. As of April 1\, 2018\, this course is required to be completed every 48 months for those with a basic or no proficiency certificate\, or to obtain an intermediate or advanced proficiency certificate. \nThis course meets Texas Commission on Law Enforcement (TCOLE) requirements #1849 \nPrerequisite  \nAny Commissioned / Licensed Peace Officer \nTopics \nLimiting the Use of Force in Public Interaction is now a required 8-hour class mandated by the passage of the Sandra Bland Act in 2017. \nFor More information click here
URL:https://ppdtraining.elementlms.com/event/de-escalation-june-18-2025-800-am-500-pm-2/
END:VEVENT
END:VCALENDAR