BEGIN:VCALENDAR
VERSION:2.0
PRODID:-//Pearland Police Department Training - ECPv6.15.18//NONSGML v1.0//EN
CALSCALE:GREGORIAN
METHOD:PUBLISH
X-WR-CALNAME:Pearland Police Department Training
X-ORIGINAL-URL:https://ppdtraining.elementlms.com
X-WR-CALDESC:Events for Pearland Police Department Training
REFRESH-INTERVAL;VALUE=DURATION:PT1H
X-Robots-Tag:noindex
X-PUBLISHED-TTL:PT1H
BEGIN:VTIMEZONE
TZID:America/Chicago
BEGIN:DAYLIGHT
TZOFFSETFROM:-0600
TZOFFSETTO:-0500
TZNAME:CDT
DTSTART:20240310T080000
END:DAYLIGHT
BEGIN:STANDARD
TZOFFSETFROM:-0500
TZOFFSETTO:-0600
TZNAME:CST
DTSTART:20241103T070000
END:STANDARD
BEGIN:DAYLIGHT
TZOFFSETFROM:-0600
TZOFFSETTO:-0500
TZNAME:CDT
DTSTART:20250309T080000
END:DAYLIGHT
BEGIN:STANDARD
TZOFFSETFROM:-0500
TZOFFSETTO:-0600
TZNAME:CST
DTSTART:20251102T070000
END:STANDARD
BEGIN:DAYLIGHT
TZOFFSETFROM:-0600
TZOFFSETTO:-0500
TZNAME:CDT
DTSTART:20260308T080000
END:DAYLIGHT
BEGIN:STANDARD
TZOFFSETFROM:-0500
TZOFFSETTO:-0600
TZNAME:CST
DTSTART:20261101T070000
END:STANDARD
END:VTIMEZONE
BEGIN:VEVENT
DTSTART;TZID=America/Chicago:20250409T080000
DTEND;TZID=America/Chicago:20250409T170000
DTSTAMP:20260424T063737
CREATED:20241030T235610Z
LAST-MODIFIED:20241030T235610Z
UID:10004276-1744185600-1744218000@ppdtraining.elementlms.com
SUMMARY:Patrol Rifle Tactics - (April 9\, 2025 8:00 am - 5:00 pm)
DESCRIPTION:Description \nThe course will be 8-hours long and include training in Patrol Rifle proficiency and survival tactics. This course is designed to improve the student’s ability to successfully engage targets accurately with speed. The dynamics of Patrol Rifle will be discussed and practiced. Emergency medical procedures will be covered as part of the training. \nThis course meets Texas Commission on Law Enforcement (TCOLE) requirements #3342 \nPrerequisite \nAny Commissioned / Licensed Peace Officer\nAttended Basic Patrol Rifle Course \nTopics\n• Patrol Rifle Fundamentals\n• Medical Emergencies\n• Shooting with speed and accuracy\n\nAudience\n• Currently commissioned Texas peace officers\n\nRequirements \nPatrol Rifle – Magazine fed semi-automatic rifle that uses and was manufactured for the use of detachable magazines with sling\, 3 magazines and magazine pouches. No Folding Stocks or Binary Trigger systems allowed. Trigger pull weight must be no less than 3.5 lbs. Short Barrel Rifles must have a barrel length of no less than 10″ and accompanied by your NFA Short Barrel Rifle Tax Stamp. No AR style pistols allowed. \n300 – 400 Rounds of .223/5.56 ammunition (No Green Tip\, Armor Piercing ammo allowed) \nDuty Handgun with a ridged non-collapsing holster and magazine pouches for transition drills \n100-150 Rounds of handgun ammunition \nPPE – Vest\, Tourniquet\, Hearing and Vision Protection\n\nOther – Dress & Equipment \nTactical style pants\, polo or tee shirt (long sleeve tee works great)\, ball cap\, athletic tape\, bug spray\, sunscreen\, snacks and sport drinks \nEducation Credits \n8.00 Texas Commission on Law Enforcement (TCOLE) \nContact Information \nPearland Police Department / Training Division \nFor More information click here
URL:https://ppdtraining.elementlms.com/event/patrol-rifle-tactics-april-9-2025-800-am-500-pm/
END:VEVENT
END:VCALENDAR