BEGIN:VCALENDAR
VERSION:2.0
PRODID:-//Pearland Police Department Training - ECPv6.15.18//NONSGML v1.0//EN
CALSCALE:GREGORIAN
METHOD:PUBLISH
X-WR-CALNAME:Pearland Police Department Training
X-ORIGINAL-URL:https://ppdtraining.elementlms.com
X-WR-CALDESC:Events for Pearland Police Department Training
REFRESH-INTERVAL;VALUE=DURATION:PT1H
X-Robots-Tag:noindex
X-PUBLISHED-TTL:PT1H
BEGIN:VTIMEZONE
TZID:America/Chicago
BEGIN:DAYLIGHT
TZOFFSETFROM:-0600
TZOFFSETTO:-0500
TZNAME:CDT
DTSTART:20240310T080000
END:DAYLIGHT
BEGIN:STANDARD
TZOFFSETFROM:-0500
TZOFFSETTO:-0600
TZNAME:CST
DTSTART:20241103T070000
END:STANDARD
BEGIN:DAYLIGHT
TZOFFSETFROM:-0600
TZOFFSETTO:-0500
TZNAME:CDT
DTSTART:20250309T080000
END:DAYLIGHT
BEGIN:STANDARD
TZOFFSETFROM:-0500
TZOFFSETTO:-0600
TZNAME:CST
DTSTART:20251102T070000
END:STANDARD
BEGIN:DAYLIGHT
TZOFFSETFROM:-0600
TZOFFSETTO:-0500
TZNAME:CDT
DTSTART:20260308T080000
END:DAYLIGHT
BEGIN:STANDARD
TZOFFSETFROM:-0500
TZOFFSETTO:-0600
TZNAME:CST
DTSTART:20261101T070000
END:STANDARD
END:VTIMEZONE
BEGIN:VEVENT
DTSTART;TZID=America/Chicago:20250408T080000
DTEND;TZID=America/Chicago:20250408T170000
DTSTAMP:20260422T124624
CREATED:20241030T235610Z
LAST-MODIFIED:20241030T235610Z
UID:10004275-1744099200-1744131600@ppdtraining.elementlms.com
SUMMARY:Handgun Tactics - (April 8\, 2025 8:00 am - 5:00 pm)
DESCRIPTION:Description \nThe course will be 8-hours long and include training in proficiency and survival tactics. This course is designed to improve the student’s ability to successfully engage targets accurately with speed. The dynamics of accurate speed drills will be discussed and practiced. Emergency medical procedures will be covered as part of the training. \nThis course meets Texas Commission on Law Enforcement (TCOLE) requirements #3342 \nPrerequisite\nAny Commissioned / Licensed Peace Officer \nTopics\n• Handgun Fundamentals\n• Medical Emergencies\n• Shooting on the move \nAudience\n• Currently Commissioned Texas Peace Officers \nRequirements\n400 Rounds of handgun ammunition\nPPE – Vest\, Hearing and Vision Protection (not optional) \nEducation Credits\n8.00 Texas Commission on Law Enforcement (TCOLE) \nContact Information\nPearland Police Department / Training Division \nFor More information click here
URL:https://ppdtraining.elementlms.com/event/handgun-tactics-april-8-2025-800-am-500-pm/
END:VEVENT
END:VCALENDAR