BEGIN:VCALENDAR
VERSION:2.0
PRODID:-//Pearland Police Department Training - ECPv6.15.18//NONSGML v1.0//EN
CALSCALE:GREGORIAN
METHOD:PUBLISH
X-WR-CALNAME:Pearland Police Department Training
X-ORIGINAL-URL:https://ppdtraining.elementlms.com
X-WR-CALDESC:Events for Pearland Police Department Training
REFRESH-INTERVAL;VALUE=DURATION:PT1H
X-Robots-Tag:noindex
X-PUBLISHED-TTL:PT1H
BEGIN:VTIMEZONE
TZID:America/Chicago
BEGIN:DAYLIGHT
TZOFFSETFROM:-0600
TZOFFSETTO:-0500
TZNAME:CDT
DTSTART:20240310T080000
END:DAYLIGHT
BEGIN:STANDARD
TZOFFSETFROM:-0500
TZOFFSETTO:-0600
TZNAME:CST
DTSTART:20241103T070000
END:STANDARD
BEGIN:DAYLIGHT
TZOFFSETFROM:-0600
TZOFFSETTO:-0500
TZNAME:CDT
DTSTART:20250309T080000
END:DAYLIGHT
BEGIN:STANDARD
TZOFFSETFROM:-0500
TZOFFSETTO:-0600
TZNAME:CST
DTSTART:20251102T070000
END:STANDARD
BEGIN:DAYLIGHT
TZOFFSETFROM:-0600
TZOFFSETTO:-0500
TZNAME:CDT
DTSTART:20260308T080000
END:DAYLIGHT
BEGIN:STANDARD
TZOFFSETFROM:-0500
TZOFFSETTO:-0600
TZNAME:CST
DTSTART:20261101T070000
END:STANDARD
END:VTIMEZONE
BEGIN:VEVENT
DTSTART;TZID=America/Chicago:20250224T080000
DTEND;TZID=America/Chicago:20250228T170000
DTSTAMP:20260422T110812
CREATED:20241030T235618Z
LAST-MODIFIED:20241030T235618Z
UID:10004333-1740384000-1740762000@ppdtraining.elementlms.com
SUMMARY:ICC Crisis Intervention Training - (February 24-28\, 2025 8:00 am - 5:00 pm)
DESCRIPTION:*** TO REGISTER FOR THIS COURSE\, PLEASE LOGIN AND REGISTER *** \nThe purpose of the Intermediate Crisis Intervention Training course is to educate law enforcement officers about issues pertaining to crisis intervention techniques\, especially in communicating with persons with a mental illness. This course meets Texas Commission on Law Enforcement (TCOLE) requirements #1850 \nFor More information click here
URL:https://ppdtraining.elementlms.com/event/icc-crisis-intervention-training-february-24-28-2025-800-am-500-pm/
END:VEVENT
BEGIN:VEVENT
DTSTART;TZID=America/Chicago:20250225T080000
DTEND;TZID=America/Chicago:20250225T120000
DTSTAMP:20260422T110812
CREATED:20241107T202451Z
LAST-MODIFIED:20241107T202451Z
UID:10004386-1740470400-1740484800@ppdtraining.elementlms.com
SUMMARY:Domestic Violence Investigations
DESCRIPTION:*** TO REGISTER FOR THIS COURSE\, PLEASE LOGIN AND REGISTER ***\n\nThe Pearland Police Department is proud to partner with the Harris County Domestic Violence Coordinating Council\, to bring awareness to survivors of domestic violence. Law enforcement investigations into domestic violence\, require understanding victims\, empathy and a willingness to help with these events. \nTopics included in this course will include: \n\nDomestic Violence 101\nAssessing Danger\nDomestic Violence High Risk Team\nTrauma Informed Response\n\nWe look forward to having you attend this free training. \nFor More information click here
URL:https://ppdtraining.elementlms.com/event/domestic-violence-investigations/
END:VEVENT
END:VCALENDAR