BEGIN:VCALENDAR
VERSION:2.0
PRODID:-//Pearland Police Department Training - ECPv6.15.18//NONSGML v1.0//EN
CALSCALE:GREGORIAN
METHOD:PUBLISH
X-WR-CALNAME:Pearland Police Department Training
X-ORIGINAL-URL:https://ppdtraining.elementlms.com
X-WR-CALDESC:Events for Pearland Police Department Training
REFRESH-INTERVAL;VALUE=DURATION:PT1H
X-Robots-Tag:noindex
X-PUBLISHED-TTL:PT1H
BEGIN:VTIMEZONE
TZID:America/Chicago
BEGIN:DAYLIGHT
TZOFFSETFROM:-0600
TZOFFSETTO:-0500
TZNAME:CDT
DTSTART:20240310T080000
END:DAYLIGHT
BEGIN:STANDARD
TZOFFSETFROM:-0500
TZOFFSETTO:-0600
TZNAME:CST
DTSTART:20241103T070000
END:STANDARD
BEGIN:DAYLIGHT
TZOFFSETFROM:-0600
TZOFFSETTO:-0500
TZNAME:CDT
DTSTART:20250309T080000
END:DAYLIGHT
BEGIN:STANDARD
TZOFFSETFROM:-0500
TZOFFSETTO:-0600
TZNAME:CST
DTSTART:20251102T070000
END:STANDARD
BEGIN:DAYLIGHT
TZOFFSETFROM:-0600
TZOFFSETTO:-0500
TZNAME:CDT
DTSTART:20260308T080000
END:DAYLIGHT
BEGIN:STANDARD
TZOFFSETFROM:-0500
TZOFFSETTO:-0600
TZNAME:CST
DTSTART:20261101T070000
END:STANDARD
END:VTIMEZONE
BEGIN:VEVENT
DTSTART;TZID=America/Chicago:20250203T080000
DTEND;TZID=America/Chicago:20250203T170000
DTSTAMP:20260422T142352
CREATED:20250207T120707Z
LAST-MODIFIED:20250207T120707Z
UID:10004470-1738569600-1738602000@ppdtraining.elementlms.com
SUMMARY:NIST (National Insitute of Safety and Technology) Proctor - (February 3\, 2025 8:00 am - 5:00 pm)
DESCRIPTION:Proctor Certification: Train the Trainer\nTo further expand the reach of these critical training standards\, LEDA has developed a “Train the Trainer” course. This program certifies Flight Skills Proctors\, empowering them to run and certify pilots at their own agencies or in their regions. LEDA Proctors are trained to set up\, run\, grade\, and upload test results to LEDA’s comprehensive Flight Skills Database\, ensuring a standardized and efficient process across the board. \n​ \nThe Proctor Course is an intensive\, 8-hour training offered exclusively in conjunction with our major conferences. Given the limited seating\, early registration is highly recommended.  A separate ticket will be available on the event’s registration page and each attendee will have to ADD that ticket to their registration\, along with their conference registration. \n​​ \nRequirements for Proctors: \nMust have passed Flight Skills 1 and Flight Skills 2 within the last six months (or pass them during the event). \nMust successfully run both Flight Skills 1 and Flight Skills 2 at least twice for other student instructors or student pilots at the conference. \nMust serve as a Flight Skills station operator for at least one hour during conference flight times. \nThe credential is valid for one year from the certification date and LEDA has the option to renew the credential based upon the amount of work the proctor put in that year in testing. \nThis program is a vital step in expanding LEDA’s reach\, allowing agencies and organizations to train their pilots locally while adhering to LEDA’s critical standards. \nFor More information click here
URL:https://ppdtraining.elementlms.com/event/nist-national-insitute-of-safety-and-technology-proctor-february-3-2025-800-am-500-pm/
END:VEVENT
END:VCALENDAR