BEGIN:VCALENDAR
VERSION:2.0
PRODID:-//Pearland Police Department Training - ECPv6.15.18//NONSGML v1.0//EN
CALSCALE:GREGORIAN
METHOD:PUBLISH
X-ORIGINAL-URL:https://ppdtraining.elementlms.com
X-WR-CALDESC:Events for Pearland Police Department Training
REFRESH-INTERVAL;VALUE=DURATION:PT1H
X-Robots-Tag:noindex
X-PUBLISHED-TTL:PT1H
BEGIN:VTIMEZONE
TZID:America/Chicago
BEGIN:DAYLIGHT
TZOFFSETFROM:-0600
TZOFFSETTO:-0500
TZNAME:CDT
DTSTART:20240310T080000
END:DAYLIGHT
BEGIN:STANDARD
TZOFFSETFROM:-0500
TZOFFSETTO:-0600
TZNAME:CST
DTSTART:20241103T070000
END:STANDARD
BEGIN:DAYLIGHT
TZOFFSETFROM:-0600
TZOFFSETTO:-0500
TZNAME:CDT
DTSTART:20250309T080000
END:DAYLIGHT
BEGIN:STANDARD
TZOFFSETFROM:-0500
TZOFFSETTO:-0600
TZNAME:CST
DTSTART:20251102T070000
END:STANDARD
BEGIN:DAYLIGHT
TZOFFSETFROM:-0600
TZOFFSETTO:-0500
TZNAME:CDT
DTSTART:20260308T080000
END:DAYLIGHT
BEGIN:STANDARD
TZOFFSETFROM:-0500
TZOFFSETTO:-0600
TZNAME:CST
DTSTART:20261101T070000
END:STANDARD
END:VTIMEZONE
BEGIN:VEVENT
DTSTART;TZID=America/Chicago:20250115T120000
DTEND;TZID=America/Chicago:20250115T170000
DTSTAMP:20260422T082039
CREATED:20241220T192033Z
LAST-MODIFIED:20241220T192033Z
UID:10004426-1736942400-1736960400@ppdtraining.elementlms.com
SUMMARY:Legal Concerns for sUAS Applications in Public Safety - (January 15\, 2025 12:00 pm - 5:00 pm)
DESCRIPTION:*** TO REGISTER FOR THIS COURSE\, PLEASE LOGIN AND REGISTER *** \nCourse Description: \nThis course is designed to familiarize the participant with applicable Federal and State regulations and case laws regarding small unmanned aircraft system (sUAS) utilization. \nCourse Audience: \nAny government personnel \nCourse Requirements: \nCurrently employed by a public safety agency \nCourse Goal: \nTo familiarize the participant with applicable Federal and State regulations regarding small unmanned aircraft system (sUAS) utilization. \nCourse Objectives:\nThe participant will be able to understand all Federal and State regulations regarding UAS deployments.\nThe participant will be able to identify applicable case laws regarding sUAS deployments.\nThe participant will be able to identify applicable counter sUAS statutes \nTopics of Discussion: \nFederal Regulations\n49 U.S.C. Section 44809 (Hobbyist Regulations)\n14 CFR Part 107 (Commercial Regulations)\nState Regulations\nTexas Government Code 423\nTexas Transportation Code 24\nCase Law\nPiker v. FAA Administrator Huerta (2014)\nKatz v. United States (1967)\nCalifornia v. Ciraolo (1986)\nFlorida v. Riley (1989)\nUnited States v. Causby (1946)\nDow Chemical Co v. United States (1986)\nKyllo v. United States (2001) \nFor More information click here
URL:https://ppdtraining.elementlms.com/event/legal-concerns-for-suas-applications-in-public-safety-january-15-2025-1200-pm-500-pm/
END:VEVENT
END:VCALENDAR