BEGIN:VCALENDAR
VERSION:2.0
PRODID:-//Pearland Police Department Training - ECPv6.15.18//NONSGML v1.0//EN
CALSCALE:GREGORIAN
METHOD:PUBLISH
X-ORIGINAL-URL:https://ppdtraining.elementlms.com
X-WR-CALDESC:Events for Pearland Police Department Training
REFRESH-INTERVAL;VALUE=DURATION:PT1H
X-Robots-Tag:noindex
X-PUBLISHED-TTL:PT1H
BEGIN:VTIMEZONE
TZID:America/Chicago
BEGIN:DAYLIGHT
TZOFFSETFROM:-0600
TZOFFSETTO:-0500
TZNAME:CDT
DTSTART:20230312T080000
END:DAYLIGHT
BEGIN:STANDARD
TZOFFSETFROM:-0500
TZOFFSETTO:-0600
TZNAME:CST
DTSTART:20231105T070000
END:STANDARD
BEGIN:DAYLIGHT
TZOFFSETFROM:-0600
TZOFFSETTO:-0500
TZNAME:CDT
DTSTART:20240310T080000
END:DAYLIGHT
BEGIN:STANDARD
TZOFFSETFROM:-0500
TZOFFSETTO:-0600
TZNAME:CST
DTSTART:20241103T070000
END:STANDARD
BEGIN:DAYLIGHT
TZOFFSETFROM:-0600
TZOFFSETTO:-0500
TZNAME:CDT
DTSTART:20250309T080000
END:DAYLIGHT
BEGIN:STANDARD
TZOFFSETFROM:-0500
TZOFFSETTO:-0600
TZNAME:CST
DTSTART:20251102T070000
END:STANDARD
END:VTIMEZONE
BEGIN:VEVENT
DTSTART;TZID=America/Chicago:20241217T080000
DTEND;TZID=America/Chicago:20241219T170000
DTSTAMP:20260425T053647
CREATED:20241030T235609Z
LAST-MODIFIED:20241030T235609Z
UID:10004267-1734422400-1734627600@ppdtraining.elementlms.com
SUMMARY:ICC Child Abuse Investigations - (December 17\, 2024 8:00 am - 5:00 pm)
DESCRIPTION:*** TO REGISTER FOR THIS COURSE\, PLEASE LOGIN AND REGISTER *** \nStudents will learn the correct procedures in recognizing child abuse and the law regarding the responsibility of police in the investigation of child abuse cases. Emphasis will be on signs of child abuse\, interviewing witnesses\, case preparation\, and Child Protective Services \nFor More information click here
URL:https://ppdtraining.elementlms.com/event/icc-child-abuse-investigations-december-17-2024-800-am-500-pm/
END:VEVENT
BEGIN:VEVENT
DTSTART;TZID=America/Chicago:20241217T080000
DTEND;TZID=America/Chicago:20241219T170000
DTSTAMP:20260425T053647
CREATED:20241030T235609Z
LAST-MODIFIED:20241030T235609Z
UID:10004269-1734422400-1734627600@ppdtraining.elementlms.com
SUMMARY:Basic Patrol Rifle - (December 17-19\, 2024 8:00 am - 5:00 pm)
DESCRIPTION:*** TO REGISTER FOR THIS COURSE\, PLEASE LOGIN AND REGISTER *** \nDescription \nThe Patrol Rifle course is designed for officers who have taken interest in the safe and proper procedures for deploying patrol rifles. Course design and safety issues are taught as well as principles of marksmanship\, rifle nomenclature and operation. The course emphasizes teaching weapons manipulation and training personnel to fight with a rifle at what are traditionally considered handgun ranges and stand-off distances up to 150 yards. The course is based on the AR-15/M-4/M-16 weapons platform. However\, other systems will be discussed. \nThis course meets Texas Commission on Law Enforcement (TCOLE) requirements #3322 \nSchedule\n\nDay 1 – 8am to 5pm \nDay 2 – 1pm to 9pm  (Depending on Daylight Saving Time) \nDay 3 – 8am to 5pm \nTopics \n\nPatrol Rifle Fundamentals\nMedical Emergencies\nShooting on the move\n\nAudience \n\nCurrently commissioned Texas peace officers\n\nRequirements \nHearing protection\, wrap around eye protection that are safety glasses\, billed cap\, (knee and elbow pads in you need them)\, \nMagazine fed semi-automatic rifle that uses and was manufactured for the use of detachable magazines with sling\, 3 magazines\, magazine pouches and a weapon mounted light. No Folding Stocks. No Select Fire Control systems to allow full auto or Burst capability. No Binary Trigger systems allowed. Trigger pull weight must be no less than 3.5 lbs.  Short Barrel Rifles (SBR’s) are allowed but must have a barrel length of no less than 10″ and accompanied by your NFA Short Barrel Rifle Tax Stamp. No AR style pistols allowed.   \nAppropriate cleaning gear and 1000 rounds of ammunition. No M855 green tip or armor piercing ammo will be allowed. \nDetachable optics are acceptable but rifle must have iron sights that co-witness through the optic or are hard mounted 45 degree angled flip-up sights. \nDuty handgun with 3 magazines and 200 rounds of ammunition\, duty belt with non-collapsible belt holster for handgun\, magazine pouch and cleaning gear. \nFor More information click here
URL:https://ppdtraining.elementlms.com/event/basic-patrol-rifle-december-17-19-2024-800-am-500-pm/
END:VEVENT
END:VCALENDAR