BEGIN:VCALENDAR
VERSION:2.0
PRODID:-//Pearland Police Department Training - ECPv6.15.18//NONSGML v1.0//EN
CALSCALE:GREGORIAN
METHOD:PUBLISH
X-ORIGINAL-URL:https://ppdtraining.elementlms.com
X-WR-CALDESC:Events for Pearland Police Department Training
REFRESH-INTERVAL;VALUE=DURATION:PT1H
X-Robots-Tag:noindex
X-PUBLISHED-TTL:PT1H
BEGIN:VTIMEZONE
TZID:America/Chicago
BEGIN:DAYLIGHT
TZOFFSETFROM:-0600
TZOFFSETTO:-0500
TZNAME:CDT
DTSTART:20230312T080000
END:DAYLIGHT
BEGIN:STANDARD
TZOFFSETFROM:-0500
TZOFFSETTO:-0600
TZNAME:CST
DTSTART:20231105T070000
END:STANDARD
BEGIN:DAYLIGHT
TZOFFSETFROM:-0600
TZOFFSETTO:-0500
TZNAME:CDT
DTSTART:20240310T080000
END:DAYLIGHT
BEGIN:STANDARD
TZOFFSETFROM:-0500
TZOFFSETTO:-0600
TZNAME:CST
DTSTART:20241103T070000
END:STANDARD
BEGIN:DAYLIGHT
TZOFFSETFROM:-0600
TZOFFSETTO:-0500
TZNAME:CDT
DTSTART:20250309T080000
END:DAYLIGHT
BEGIN:STANDARD
TZOFFSETFROM:-0500
TZOFFSETTO:-0600
TZNAME:CST
DTSTART:20251102T070000
END:STANDARD
END:VTIMEZONE
BEGIN:VEVENT
DTSTART;TZID=America/Chicago:20241119T080000
DTEND;TZID=America/Chicago:20241119T170000
DTSTAMP:20260425T165215
CREATED:20241030T235610Z
LAST-MODIFIED:20241030T235610Z
UID:10004272-1732003200-1732035600@ppdtraining.elementlms.com
SUMMARY:Handgun Tactics - (November 19\, 2024 8:00 am - 5:00 pm)
DESCRIPTION:Description \nThe course will be 8-hours long and include training in proficiency and survival tactics. This course is designed to improve the student’s ability to successfully engage targets accurately with speed. The dynamics of accurate speed drills will be discussed and practiced. Emergency medical procedures will be covered as part of the training. \nThis course meets Texas Commission on Law Enforcement (TCOLE) requirements #3342 \nPrerequisite\nAny Commissioned / Licensed Peace Officer \nTopics\n• Handgun Fundamentals\n• Medical Emergencies\n• Shooting on the move \nAudience\n• Currently Commissioned Texas Peace Officers \nRequirements\n400 Rounds of handgun ammunition\nPPE – Vest\, Hearing and Vision Protection (not optional) \nEducation Credits\n8.00 Texas Commission on Law Enforcement (TCOLE) \nContact Information\nPearland Police Department / Training Division \nFor More information click here
URL:https://ppdtraining.elementlms.com/event/handgun-tactics-november-19-2024-800-am-500-pm/
END:VEVENT
BEGIN:VEVENT
DTSTART;TZID=America/Chicago:20241119T080000
DTEND;TZID=America/Chicago:20241121T170000
DTSTAMP:20260425T165215
CREATED:20241030T235618Z
LAST-MODIFIED:20241030T235618Z
UID:10004330-1732003200-1732208400@ppdtraining.elementlms.com
SUMMARY:Mental Health Officer - (November 19-21\, 2024 8:00 am - 5:00 pm)
DESCRIPTION:***TO REGISTER FOR THIS COURSE\, PLEASE LOGIN AND REGISTER*** \nThis course is free. \nThe purpose of the Mental Health Officer course is to further inform and educate the officer in the area of mental health and issues pertaining to serving as a mental health officer\, to include advanced crisis intervention training. \nThis course meets Texas Commission on Law Enforcement (TCOLE) requirements #4201 \n Prerequisite  \n To qualify for a mental health officer proficiency certificate\, an applicant must meet the following requirements: \nCurrently appointed as a peace officer or justice of the peace;\nAt least two years experience as a peace officer or justice of the peace;\nIf not currently a commissioned peace officer\, an applicant must meet the current enrollment standards;\nIf an applicant is a commissioned peace officer\, an applicant must not ever have had a license or certificate issued by the commission suspended or revoked;\nIf an applicant is a commissioned peace officer\, an applicant must have met the continuing education requirements for the previous training cycle;\nSuccessful completion of a training course in emergency first aid and lifesaving techniques (Red Cross or equivalent); and\nSuccessful completion of the current mental health peace officer training course\, pass the approved written examination for mental health officer proficiency\, with a score of 80% or better\, and pass the skills based exam with a grade of satisfactory.\nAdditionally\, the student must have taken: \nDe-escalation (TCOLE Course #1849) AND\nCrisis Intervention Training (TCOLE Course #1850) OR Mental Health for Jailers (TCOLE Course #4900) \nPlease note:  Peace officers who completed the Basic Peace Officer Course after 2019 (BPOC 1000667\, 1000696\, 1000720)\, will have both 1849 and 1850 and meet the enrollment requirements. \n\nAudience \n\nCurrently commissioned Texas peace officers \n \nEducation Credits \n24.00 Texas Commission on Law Enforcement (TCOLE) \nFor More information click here
URL:https://ppdtraining.elementlms.com/event/mental-health-officer-november-19-21-2024-800-am-500-pm/
END:VEVENT
END:VCALENDAR